BEGIN:VCALENDAR
VERSION:2.0
PRODID:-//https://kaktussteiermark.com/web///NONSGML kigkonsult.se iCalcreator 2.10.15//
METHOD:PUBLISH
BEGIN:VEVENT
UID:20260420T121517CEST-0353ZUtHUa@https://kaktussteiermark.com/web/
DTSTAMP:20260420T101517Z
DESCRIPTION:Aus der Sicht eines Südamerikaneulings unterwegs im kleinen Nor
 den Chiles zwischen Santiago und Huasco. Vom Pazifikstrand bis ins Andenvo
 rland spannt sich der Bilderreigen. Nicht nur Kakteenzwerge und Kakteenrie
 sen\, sondern auch die umfangreiche Flora und Fauna werden ins Kammeravisi
 er genommen.\nVortragender: Helmut Papsch\nZV LG Steiermark https://kaktus
 steiermark.com/web/index.php/veranstaltungen/event/66-chile-2022-von-santi
 ago-nach-huasco.html
DTSTART:20260513T183000Z
DTEND:20260513T220000Z
LOCATION:Gasthaus Lammer (Gratweiner Straße 21\, 8111\, Judendorf\, Gratwei
 n-Straßengel\, Graz-Umgebung\, Steiermark)
SUMMARY:Chile 2022: von Santiago nach Huasco
URL:https://kaktussteiermark.com/web/index.php/veranstaltungen/event/66-chi
 le-2022-von-santiago-nach-huasco.html
END:VEVENT
END:VCALENDAR
