BEGIN:VCALENDAR
VERSION:2.0
PRODID:-//https://kaktussteiermark.com/web///NONSGML kigkonsult.se iCalcreator 2.10.15//
METHOD:PUBLISH
BEGIN:VEVENT
UID:20260420T122501CEST-6329GI5u7h@https://kaktussteiermark.com/web/
DTSTAMP:20260420T102501Z
DESCRIPTION:Österreichs größte Kakteen- und Sukkulentenbörse mit einer Viel
 zahl an in- und ausländischen Händlern bietet ein einzigartiges Pflanzenan
 gebot. Von der Anfängerpflanze bis zum seltenen Ausstellungsstück findet j
 eder Kakteenfreund etwas für sich. Die traditionelle Börse gilt als Treffp
 unkt von renomierten Anbietern mit ausgezeichneter Pflanzenqualität und er
 freut sich einem großen Besucherinteresse. Wir freuen uns auf ihren Besuch
  bei uns - auch weite Wege lohnen sich bestimmt! https://kaktussteiermark.
 com/web/index.php/veranstaltungen/event/61-steirische-kakteentage-2026.htm
 l
DTSTART:20260815T090000Z
DTEND:20260815T180000Z
LOCATION:Straßenglerhalle -  Gratwein-Straßengel (Hauptplatz 1\, 8111\, Str
 aßengel\, Gratwein-Straßengel\, Graz-Umgebung\, Steiermark)
SUMMARY:Steirische Kakteentage 2026
URL:https://kaktussteiermark.com/web/index.php/veranstaltungen/event/61-ste
 irische-kakteentage-2026.html
END:VEVENT
END:VCALENDAR
