BEGIN:VCALENDAR
VERSION:2.0
PRODID:-//https://kaktussteiermark.com/web///NONSGML kigkonsult.se iCalcreator 2.10.15//
METHOD:PUBLISH
BEGIN:VEVENT
UID:20260420T120757CEST-4199KXwKN2@https://kaktussteiermark.com/web/
DTSTAMP:20260420T100757Z
DESCRIPTION:Besuchen Sie unsere Saisoneröffnung - die mittlerweile stark wa
 chsende internationale Börse in Gratwein-Straßengel. Auch weite Wege lohne
 n sich - wir freuen uns auf ihren Besuch. https://kaktussteiermark.com/web
 /index.php/veranstaltungen/event/58-interkaktus-2026.html
DTSTART:20260425T100000Z
DTEND:20260425T180000Z
LOCATION:Straßenglerhalle -  Gratwein-Straßengel (Hauptplatz 1\, 8111\, Str
 aßengel\, Gratwein-Straßengel\, Graz-Umgebung\, Steiermark)
SUMMARY:Interkaktus 2026
URL:https://kaktussteiermark.com/web/index.php/veranstaltungen/event/58-int
 erkaktus-2026.html
END:VEVENT
END:VCALENDAR
